BEGIN:VCALENDAR
VERSION:2.0
PRODID:https://www.kufer.de/kuferweb / DE
METHOD:PUBLISH
CALSCALE:GREGORIAN
X-WR-TIMEZONE:Europe/Berlin
BEGIN:VTIMEZONE
TZID:Europe/Berlin
X-LIC-LOCATION:Europe/Berlin
BEGIN:DAYLIGHT
TZOFFSETFROM:+0100
TZOFFSETTO:+0200
TZNAME:CEST
DTSTART:19700329T020000
RRULE:FREQ=YEARLY;INTERVAL=1;BYDAY=-1SU;BYMONTH=3
END:DAYLIGHT
BEGIN:STANDARD
TZOFFSETFROM:+0200
TZOFFSETTO:+0100
TZNAME:CET
DTSTART:19701025T030000
RRULE:FREQ=YEARLY;INTERVAL=1;BYDAY=-1SU;BYMONTH=10
END:STANDARD
END:VTIMEZONE
BEGIN:VEVENT
DTSTAMP:20260419T140751
DTSTART;TZID=Europe/Berlin:20260917T090000
DTEND;TZID=Europe/Berlin:20260917T103000
UID:S8242E-20260917T090000@VHSALT-/NEUÖTTING - TÖGING AM INN
SUMMARY:Hatha-Yoga (Förderung durch Krankenkassen) (S8242E) 
LOCATION:Perseishof, Oberthal 28, 84571 Reischach
END:VEVENT
BEGIN:VEVENT
DTSTAMP:20260419T140751
DTSTART;TZID=Europe/Berlin:20260924T090000
DTEND;TZID=Europe/Berlin:20260924T103000
UID:S8242E-20260924T090000@VHSALT-/NEUÖTTING - TÖGING AM INN
SUMMARY:Hatha-Yoga (Förderung durch Krankenkassen) (S8242E) 
LOCATION:Perseishof, Oberthal 28, 84571 Reischach
END:VEVENT
BEGIN:VEVENT
DTSTAMP:20260419T140751
DTSTART;TZID=Europe/Berlin:20261001T090000
DTEND;TZID=Europe/Berlin:20261001T103000
UID:S8242E-20261001T090000@VHSALT-/NEUÖTTING - TÖGING AM INN
SUMMARY:Hatha-Yoga (Förderung durch Krankenkassen) (S8242E) 
LOCATION:Perseishof, Oberthal 28, 84571 Reischach
END:VEVENT
BEGIN:VEVENT
DTSTAMP:20260419T140751
DTSTART;TZID=Europe/Berlin:20261008T090000
DTEND;TZID=Europe/Berlin:20261008T103000
UID:S8242E-20261008T090000@VHSALT-/NEUÖTTING - TÖGING AM INN
SUMMARY:Hatha-Yoga (Förderung durch Krankenkassen) (S8242E) 
LOCATION:Perseishof, Oberthal 28, 84571 Reischach
END:VEVENT
BEGIN:VEVENT
DTSTAMP:20260419T140751
DTSTART;TZID=Europe/Berlin:20261015T090000
DTEND;TZID=Europe/Berlin:20261015T103000
UID:S8242E-20261015T090000@VHSALT-/NEUÖTTING - TÖGING AM INN
SUMMARY:Hatha-Yoga (Förderung durch Krankenkassen) (S8242E) 
LOCATION:Perseishof, Oberthal 28, 84571 Reischach
END:VEVENT
BEGIN:VEVENT
DTSTAMP:20260419T140751
DTSTART;TZID=Europe/Berlin:20261022T090000
DTEND;TZID=Europe/Berlin:20261022T103000
UID:S8242E-20261022T090000@VHSALT-/NEUÖTTING - TÖGING AM INN
SUMMARY:Hatha-Yoga (Förderung durch Krankenkassen) (S8242E) 
LOCATION:Perseishof, Oberthal 28, 84571 Reischach
END:VEVENT
BEGIN:VEVENT
DTSTAMP:20260419T140751
DTSTART;TZID=Europe/Berlin:20261029T090000
DTEND;TZID=Europe/Berlin:20261029T103000
UID:S8242E-20261029T090000@VHSALT-/NEUÖTTING - TÖGING AM INN
SUMMARY:Hatha-Yoga (Förderung durch Krankenkassen) (S8242E) 
LOCATION:Perseishof, Oberthal 28, 84571 Reischach
END:VEVENT
BEGIN:VEVENT
DTSTAMP:20260419T140751
DTSTART;TZID=Europe/Berlin:20261112T090000
DTEND;TZID=Europe/Berlin:20261112T103000
UID:S8242E-20261112T090000@VHSALT-/NEUÖTTING - TÖGING AM INN
SUMMARY:Hatha-Yoga (Förderung durch Krankenkassen) (S8242E) 
LOCATION:Perseishof, Oberthal 28, 84571 Reischach
END:VEVENT
BEGIN:VEVENT
DTSTAMP:20260419T140751
DTSTART;TZID=Europe/Berlin:20261119T090000
DTEND;TZID=Europe/Berlin:20261119T103000
UID:S8242E-20261119T090000@VHSALT-/NEUÖTTING - TÖGING AM INN
SUMMARY:Hatha-Yoga (Förderung durch Krankenkassen) (S8242E) 
LOCATION:Perseishof, Oberthal 28, 84571 Reischach
END:VEVENT
BEGIN:VEVENT
DTSTAMP:20260419T140751
DTSTART;TZID=Europe/Berlin:20261126T090000
DTEND;TZID=Europe/Berlin:20261126T103000
UID:S8242E-20261126T090000@VHSALT-/NEUÖTTING - TÖGING AM INN
SUMMARY:Hatha-Yoga (Förderung durch Krankenkassen) (S8242E) 
LOCATION:Perseishof, Oberthal 28, 84571 Reischach
END:VEVENT
BEGIN:VEVENT
DTSTAMP:20260419T140751
DTSTART;TZID=Europe/Berlin:20261203T090000
DTEND;TZID=Europe/Berlin:20261203T103000
UID:S8242E-20261203T090000@VHSALT-/NEUÖTTING - TÖGING AM INN
SUMMARY:Hatha-Yoga (Förderung durch Krankenkassen) (S8242E) 
LOCATION:Perseishof, Oberthal 28, 84571 Reischach
END:VEVENT
BEGIN:VEVENT
DTSTAMP:20260419T140751
DTSTART;TZID=Europe/Berlin:20261210T090000
DTEND;TZID=Europe/Berlin:20261210T103000
UID:S8242E-20261210T090000@VHSALT-/NEUÖTTING - TÖGING AM INN
SUMMARY:Hatha-Yoga (Förderung durch Krankenkassen) (S8242E) 
LOCATION:Perseishof, Oberthal 28, 84571 Reischach
END:VEVENT
END:VCALENDAR