BEGIN:VCALENDAR
VERSION:2.0
PRODID:https://www.kufer.de/kuferweb / DE
METHOD:PUBLISH
CALSCALE:GREGORIAN
X-WR-TIMEZONE:Europe/Berlin
BEGIN:VTIMEZONE
TZID:Europe/Berlin
X-LIC-LOCATION:Europe/Berlin
BEGIN:DAYLIGHT
TZOFFSETFROM:+0100
TZOFFSETTO:+0200
TZNAME:CEST
DTSTART:19700329T020000
RRULE:FREQ=YEARLY;INTERVAL=1;BYDAY=-1SU;BYMONTH=3
END:DAYLIGHT
BEGIN:STANDARD
TZOFFSETFROM:+0200
TZOFFSETTO:+0100
TZNAME:CET
DTSTART:19701025T030000
RRULE:FREQ=YEARLY;INTERVAL=1;BYDAY=-1SU;BYMONTH=10
END:STANDARD
END:VTIMEZONE
BEGIN:VEVENT
DTSTAMP:20260419T160359
DTSTART;TZID=Europe/Berlin:20260113T090000
DTEND;TZID=Europe/Berlin:20260113T103000
UID:S8240B-20260113T090000@VHSALT-/NEUÖTTING - TÖGING AM INN
SUMMARY:Hatha-Yoga (Förderung durch Krankenkassen) (S8240B) 
LOCATION:Perseishof, Oberthal 28, 84571 Reischach
END:VEVENT
BEGIN:VEVENT
DTSTAMP:20260419T160359
DTSTART;TZID=Europe/Berlin:20260120T090000
DTEND;TZID=Europe/Berlin:20260120T103000
UID:S8240B-20260120T090000@VHSALT-/NEUÖTTING - TÖGING AM INN
SUMMARY:Hatha-Yoga (Förderung durch Krankenkassen) (S8240B) 
LOCATION:Perseishof, Oberthal 28, 84571 Reischach
END:VEVENT
BEGIN:VEVENT
DTSTAMP:20260419T160359
DTSTART;TZID=Europe/Berlin:20260127T090000
DTEND;TZID=Europe/Berlin:20260127T103000
UID:S8240B-20260127T090000@VHSALT-/NEUÖTTING - TÖGING AM INN
SUMMARY:Hatha-Yoga (Förderung durch Krankenkassen) (S8240B) 
LOCATION:Perseishof, Oberthal 28, 84571 Reischach
END:VEVENT
BEGIN:VEVENT
DTSTAMP:20260419T160359
DTSTART;TZID=Europe/Berlin:20260203T090000
DTEND;TZID=Europe/Berlin:20260203T103000
UID:S8240B-20260203T090000@VHSALT-/NEUÖTTING - TÖGING AM INN
SUMMARY:Hatha-Yoga (Förderung durch Krankenkassen) (S8240B) 
LOCATION:Perseishof, Oberthal 28, 84571 Reischach
END:VEVENT
BEGIN:VEVENT
DTSTAMP:20260419T160359
DTSTART;TZID=Europe/Berlin:20260210T090000
DTEND;TZID=Europe/Berlin:20260210T103000
UID:S8240B-20260210T090000@VHSALT-/NEUÖTTING - TÖGING AM INN
SUMMARY:Hatha-Yoga (Förderung durch Krankenkassen) (S8240B) 
LOCATION:Perseishof, Oberthal 28, 84571 Reischach
END:VEVENT
BEGIN:VEVENT
DTSTAMP:20260419T160359
DTSTART;TZID=Europe/Berlin:20260224T090000
DTEND;TZID=Europe/Berlin:20260224T103000
UID:S8240B-20260224T090000@VHSALT-/NEUÖTTING - TÖGING AM INN
SUMMARY:Hatha-Yoga (Förderung durch Krankenkassen) (S8240B) 
LOCATION:Perseishof, Oberthal 28, 84571 Reischach
END:VEVENT
BEGIN:VEVENT
DTSTAMP:20260419T160359
DTSTART;TZID=Europe/Berlin:20260303T090000
DTEND;TZID=Europe/Berlin:20260303T103000
UID:S8240B-20260303T090000@VHSALT-/NEUÖTTING - TÖGING AM INN
SUMMARY:Hatha-Yoga (Förderung durch Krankenkassen) (S8240B) 
LOCATION:Perseishof, Oberthal 28, 84571 Reischach
END:VEVENT
BEGIN:VEVENT
DTSTAMP:20260419T160359
DTSTART;TZID=Europe/Berlin:20260310T090000
DTEND;TZID=Europe/Berlin:20260310T103000
UID:S8240B-20260310T090000@VHSALT-/NEUÖTTING - TÖGING AM INN
SUMMARY:Hatha-Yoga (Förderung durch Krankenkassen) (S8240B) 
LOCATION:Perseishof, Oberthal 28, 84571 Reischach
END:VEVENT
BEGIN:VEVENT
DTSTAMP:20260419T160359
DTSTART;TZID=Europe/Berlin:20260317T090000
DTEND;TZID=Europe/Berlin:20260317T103000
UID:S8240B-20260317T090000@VHSALT-/NEUÖTTING - TÖGING AM INN
SUMMARY:Hatha-Yoga (Förderung durch Krankenkassen) (S8240B) 
LOCATION:Perseishof, Oberthal 28, 84571 Reischach
END:VEVENT
BEGIN:VEVENT
DTSTAMP:20260419T160359
DTSTART;TZID=Europe/Berlin:20260324T090000
DTEND;TZID=Europe/Berlin:20260324T103000
UID:S8240B-20260324T090000@VHSALT-/NEUÖTTING - TÖGING AM INN
SUMMARY:Hatha-Yoga (Förderung durch Krankenkassen) (S8240B) 
LOCATION:Perseishof, Oberthal 28, 84571 Reischach
END:VEVENT
BEGIN:VEVENT
DTSTAMP:20260419T160359
DTSTART;TZID=Europe/Berlin:20260414T090000
DTEND;TZID=Europe/Berlin:20260414T103000
UID:S8240B-20260414T090000@VHSALT-/NEUÖTTING - TÖGING AM INN
SUMMARY:Hatha-Yoga (Förderung durch Krankenkassen) (S8240B) 
LOCATION:Perseishof, Oberthal 28, 84571 Reischach
END:VEVENT
BEGIN:VEVENT
DTSTAMP:20260419T160359
DTSTART;TZID=Europe/Berlin:20260421T090000
DTEND;TZID=Europe/Berlin:20260421T103000
UID:S8240B-20260421T090000@VHSALT-/NEUÖTTING - TÖGING AM INN
SUMMARY:Hatha-Yoga (Förderung durch Krankenkassen) (S8240B) 
LOCATION:Perseishof, Oberthal 28, 84571 Reischach
END:VEVENT
END:VCALENDAR