BEGIN:VCALENDAR
VERSION:2.0
PRODID:https://www.kufer.de/kuferweb / DE
METHOD:PUBLISH
CALSCALE:GREGORIAN
X-WR-TIMEZONE:Europe/Berlin
BEGIN:VTIMEZONE
TZID:Europe/Berlin
X-LIC-LOCATION:Europe/Berlin
BEGIN:DAYLIGHT
TZOFFSETFROM:+0100
TZOFFSETTO:+0200
TZNAME:CEST
DTSTART:19700329T020000
RRULE:FREQ=YEARLY;INTERVAL=1;BYDAY=-1SU;BYMONTH=3
END:DAYLIGHT
BEGIN:STANDARD
TZOFFSETFROM:+0200
TZOFFSETTO:+0100
TZNAME:CET
DTSTART:19701025T030000
RRULE:FREQ=YEARLY;INTERVAL=1;BYDAY=-1SU;BYMONTH=10
END:STANDARD
END:VTIMEZONE
BEGIN:VEVENT
DTSTAMP:20260420T003322
DTSTART;TZID=Europe/Berlin:20260209T100000
DTEND;TZID=Europe/Berlin:20260209T113000
UID:S3225-20260209T100000@VHSALT-/NEUÖTTING - TÖGING AM INN
SUMMARY:Englisch für falsche Anfänger IV/1 (Niveau A2) (S3225) 
LOCATION:vhs-Verwaltung, Neuöttinger Str. 32, Seminarraum 3, Neuöttinger Straße 32, 84503 Altötting
END:VEVENT
BEGIN:VEVENT
DTSTAMP:20260420T003322
DTSTART;TZID=Europe/Berlin:20260223T100000
DTEND;TZID=Europe/Berlin:20260223T113000
UID:S3225-20260223T100000@VHSALT-/NEUÖTTING - TÖGING AM INN
SUMMARY:Englisch für falsche Anfänger IV/1 (Niveau A2) (S3225) 
LOCATION:vhs-Verwaltung, Neuöttinger Str. 32, Seminarraum 3, Neuöttinger Straße 32, 84503 Altötting
END:VEVENT
BEGIN:VEVENT
DTSTAMP:20260420T003322
DTSTART;TZID=Europe/Berlin:20260302T100000
DTEND;TZID=Europe/Berlin:20260302T113000
UID:S3225-20260302T100000@VHSALT-/NEUÖTTING - TÖGING AM INN
SUMMARY:Englisch für falsche Anfänger IV/1 (Niveau A2) (S3225) 
LOCATION:vhs-Verwaltung, Neuöttinger Str. 32, Seminarraum 3, Neuöttinger Straße 32, 84503 Altötting
END:VEVENT
BEGIN:VEVENT
DTSTAMP:20260420T003322
DTSTART;TZID=Europe/Berlin:20260309T100000
DTEND;TZID=Europe/Berlin:20260309T113000
UID:S3225-20260309T100000@VHSALT-/NEUÖTTING - TÖGING AM INN
SUMMARY:Englisch für falsche Anfänger IV/1 (Niveau A2) (S3225) 
LOCATION:vhs-Verwaltung, Neuöttinger Str. 32, Seminarraum 3, Neuöttinger Straße 32, 84503 Altötting
END:VEVENT
BEGIN:VEVENT
DTSTAMP:20260420T003322
DTSTART;TZID=Europe/Berlin:20260316T100000
DTEND;TZID=Europe/Berlin:20260316T113000
UID:S3225-20260316T100000@VHSALT-/NEUÖTTING - TÖGING AM INN
SUMMARY:Englisch für falsche Anfänger IV/1 (Niveau A2) (S3225) 
LOCATION:vhs-Verwaltung, Neuöttinger Str. 32, Seminarraum 3, Neuöttinger Straße 32, 84503 Altötting
END:VEVENT
BEGIN:VEVENT
DTSTAMP:20260420T003322
DTSTART;TZID=Europe/Berlin:20260323T100000
DTEND;TZID=Europe/Berlin:20260323T113000
UID:S3225-20260323T100000@VHSALT-/NEUÖTTING - TÖGING AM INN
SUMMARY:Englisch für falsche Anfänger IV/1 (Niveau A2) (S3225) 
LOCATION:vhs-Verwaltung, Neuöttinger Str. 32, Seminarraum 3, Neuöttinger Straße 32, 84503 Altötting
END:VEVENT
BEGIN:VEVENT
DTSTAMP:20260420T003322
DTSTART;TZID=Europe/Berlin:20260413T100000
DTEND;TZID=Europe/Berlin:20260413T113000
UID:S3225-20260413T100000@VHSALT-/NEUÖTTING - TÖGING AM INN
SUMMARY:Englisch für falsche Anfänger IV/1 (Niveau A2) (S3225) 
LOCATION:vhs-Verwaltung, Neuöttinger Str. 32, Seminarraum 3, Neuöttinger Straße 32, 84503 Altötting
END:VEVENT
BEGIN:VEVENT
DTSTAMP:20260420T003322
DTSTART;TZID=Europe/Berlin:20260420T100000
DTEND;TZID=Europe/Berlin:20260420T113000
UID:S3225-20260420T100000@VHSALT-/NEUÖTTING - TÖGING AM INN
SUMMARY:Englisch für falsche Anfänger IV/1 (Niveau A2) (S3225) 
LOCATION:vhs-Verwaltung, Neuöttinger Str. 32, Seminarraum 3, Neuöttinger Straße 32, 84503 Altötting
END:VEVENT
BEGIN:VEVENT
DTSTAMP:20260420T003322
DTSTART;TZID=Europe/Berlin:20260427T100000
DTEND;TZID=Europe/Berlin:20260427T113000
UID:S3225-20260427T100000@VHSALT-/NEUÖTTING - TÖGING AM INN
SUMMARY:Englisch für falsche Anfänger IV/1 (Niveau A2) (S3225) 
LOCATION:vhs-Verwaltung, Neuöttinger Str. 32, Seminarraum 3, Neuöttinger Straße 32, 84503 Altötting
END:VEVENT
BEGIN:VEVENT
DTSTAMP:20260420T003322
DTSTART;TZID=Europe/Berlin:20260504T100000
DTEND;TZID=Europe/Berlin:20260504T113000
UID:S3225-20260504T100000@VHSALT-/NEUÖTTING - TÖGING AM INN
SUMMARY:Englisch für falsche Anfänger IV/1 (Niveau A2) (S3225) 
LOCATION:vhs-Verwaltung, Neuöttinger Str. 32, Seminarraum 3, Neuöttinger Straße 32, 84503 Altötting
END:VEVENT
BEGIN:VEVENT
DTSTAMP:20260420T003322
DTSTART;TZID=Europe/Berlin:20260511T100000
DTEND;TZID=Europe/Berlin:20260511T113000
UID:S3225-20260511T100000@VHSALT-/NEUÖTTING - TÖGING AM INN
SUMMARY:Englisch für falsche Anfänger IV/1 (Niveau A2) (S3225) 
LOCATION:vhs-Verwaltung, Neuöttinger Str. 32, Seminarraum 3, Neuöttinger Straße 32, 84503 Altötting
END:VEVENT
BEGIN:VEVENT
DTSTAMP:20260420T003322
DTSTART;TZID=Europe/Berlin:20260518T100000
DTEND;TZID=Europe/Berlin:20260518T113000
UID:S3225-20260518T100000@VHSALT-/NEUÖTTING - TÖGING AM INN
SUMMARY:Englisch für falsche Anfänger IV/1 (Niveau A2) (S3225) 
LOCATION:vhs-Verwaltung, Neuöttinger Str. 32, Seminarraum 3, Neuöttinger Straße 32, 84503 Altötting
END:VEVENT
BEGIN:VEVENT
DTSTAMP:20260420T003322
DTSTART;TZID=Europe/Berlin:20260608T100000
DTEND;TZID=Europe/Berlin:20260608T113000
UID:S3225-20260608T100000@VHSALT-/NEUÖTTING - TÖGING AM INN
SUMMARY:Englisch für falsche Anfänger IV/1 (Niveau A2) (S3225) 
LOCATION:vhs-Verwaltung, Neuöttinger Str. 32, Seminarraum 3, Neuöttinger Straße 32, 84503 Altötting
END:VEVENT
BEGIN:VEVENT
DTSTAMP:20260420T003322
DTSTART;TZID=Europe/Berlin:20260615T100000
DTEND;TZID=Europe/Berlin:20260615T113000
UID:S3225-20260615T100000@VHSALT-/NEUÖTTING - TÖGING AM INN
SUMMARY:Englisch für falsche Anfänger IV/1 (Niveau A2) (S3225) 
LOCATION:vhs-Verwaltung, Neuöttinger Str. 32, Seminarraum 3, Neuöttinger Straße 32, 84503 Altötting
END:VEVENT
BEGIN:VEVENT
DTSTAMP:20260420T003322
DTSTART;TZID=Europe/Berlin:20260622T100000
DTEND;TZID=Europe/Berlin:20260622T113000
UID:S3225-20260622T100000@VHSALT-/NEUÖTTING - TÖGING AM INN
SUMMARY:Englisch für falsche Anfänger IV/1 (Niveau A2) (S3225) 
LOCATION:vhs-Verwaltung, Neuöttinger Str. 32, Seminarraum 3, Neuöttinger Straße 32, 84503 Altötting
END:VEVENT
END:VCALENDAR